BEGIN:VCALENDAR
VERSION:2.0
PRODID:-//Mae&#039;s Seasonings - ECPv6.15.18//NONSGML v1.0//EN
CALSCALE:GREGORIAN
METHOD:PUBLISH
X-WR-CALNAME:Mae&#039;s Seasonings
X-ORIGINAL-URL:https://maesseasonings.com
X-WR-CALDESC:Events for Mae&#039;s Seasonings
REFRESH-INTERVAL;VALUE=DURATION:PT1H
X-Robots-Tag:noindex
X-PUBLISHED-TTL:PT1H
BEGIN:VTIMEZONE
TZID:America/Vancouver
BEGIN:DAYLIGHT
TZOFFSETFROM:-0800
TZOFFSETTO:-0700
TZNAME:PDT
DTSTART:20220313T100000
END:DAYLIGHT
BEGIN:STANDARD
TZOFFSETFROM:-0700
TZOFFSETTO:-0800
TZNAME:PST
DTSTART:20221106T090000
END:STANDARD
BEGIN:DAYLIGHT
TZOFFSETFROM:-0800
TZOFFSETTO:-0700
TZNAME:PDT
DTSTART:20230312T100000
END:DAYLIGHT
BEGIN:STANDARD
TZOFFSETFROM:-0700
TZOFFSETTO:-0800
TZNAME:PST
DTSTART:20231105T090000
END:STANDARD
BEGIN:DAYLIGHT
TZOFFSETFROM:-0800
TZOFFSETTO:-0700
TZNAME:PDT
DTSTART:20240310T100000
END:DAYLIGHT
BEGIN:STANDARD
TZOFFSETFROM:-0700
TZOFFSETTO:-0800
TZNAME:PST
DTSTART:20241103T090000
END:STANDARD
END:VTIMEZONE
BEGIN:VEVENT
DTSTART;TZID=America/Vancouver:20230902T100000
DTEND;TZID=America/Vancouver:20230902T140000
DTSTAMP:20260424T065448
CREATED:20230716T072650Z
LAST-MODIFIED:20230716T072650Z
UID:5176-1693648800-1693663200@maesseasonings.com
SUMMARY:Deroche Farmer's Market
DESCRIPTION:The Deroche Farmers Market believes in… Community.\nCOME FOR THE FOOD!\n\nFresh local veggies\, berries and fruit. Farm fresh eggs. Homemade pies\, cookies\, muffins and more! All the spicy stuff… garlic\, pickles\, salsas\, hot sauce!                                                                                          And a fresh made bannock breakfast sandwich is a must have!! \nHAVE FUN WITH FRIENDS!\n\nNestled in the eastern Fraser Valley\, a popular stop for folks travelling the Scenic 7 Highway.                                                                                                                                                                                      From stuffies to carvings\, jewellery to tote bags\, soaps and candles\, all handcrafted by our local artisans. \nENJOY LIVE MUSIC!\n\nOur amazingly talented artists will have you singing or dancing along while you shop or enjoy a picnic in the grass. We love our local talent!
URL:https://maesseasonings.com/event/deroche-farmers-market-4/
LOCATION:Deroche Market\, 10220 N. Deroche Rd\, Deroche\, BC\, Canada
END:VEVENT
BEGIN:VEVENT
DTSTART;TZID=America/Vancouver:20230913T150000
DTEND;TZID=America/Vancouver:20230913T190000
DTSTAMP:20260424T065448
CREATED:20230716T061745Z
LAST-MODIFIED:20230716T061811Z
UID:5127-1694617200-1694631600@maesseasonings.com
SUMMARY:Langley Community Farmers Market
DESCRIPTION:Langley Community Farmer’s Market started as a small market in 2009. We strive to provide a venue for local farmers to sell fresh produce\, meat\, dairy\, and artisan products to our community. \nOriginally located at KPU Campus in Langley\, we have recently rebranded\, and relaunched in a newer\, more convenient location at Derek Doubleday Arboretum in 2021! \nOur Market runs every Wednesday throughout the summer\, and features the best food and artisan products the beautiful Fraser Valley has to offer.
URL:https://maesseasonings.com/event/langley-community-farmers-market-5/
LOCATION:Derek Doubleday Arboretum\, 21177 Fraser Hwy\, Langley\, Canada
END:VEVENT
BEGIN:VEVENT
DTSTART;TZID=America/Vancouver:20230920T150000
DTEND;TZID=America/Vancouver:20230920T190000
DTSTAMP:20260424T065448
CREATED:20230716T062012Z
LAST-MODIFIED:20230716T062012Z
UID:5129-1695222000-1695236400@maesseasonings.com
SUMMARY:Langley Community Farmers Market
DESCRIPTION:Langley Community Farmer’s Market started as a small market in 2009. We strive to provide a venue for local farmers to sell fresh produce\, meat\, dairy\, and artisan products to our community. \nOriginally located at KPU Campus in Langley\, we have recently rebranded\, and relaunched in a newer\, more convenient location at Derek Doubleday Arboretum in 2021! \nOur Market runs every Wednesday throughout the summer\, and features the best food and artisan products the beautiful Fraser Valley has to offer.
URL:https://maesseasonings.com/event/langley-community-farmers-market-6/
LOCATION:Derek Doubleday Arboretum\, 21177 Fraser Hwy\, Langley\, Canada
END:VEVENT
BEGIN:VEVENT
DTSTART;TZID=America/Vancouver:20230924T100000
DTEND;TZID=America/Vancouver:20230924T140000
DTSTAMP:20260424T065448
CREATED:20230716T064730Z
LAST-MODIFIED:20230716T064730Z
UID:5152-1695549600-1695564000@maesseasonings.com
SUMMARY:Downtown Chilliwack Community Market
DESCRIPTION:The Downtown Chilliwack Community Market takes place Sundays from 10am to 2pm\, from May 28th to October 15th\, on the traditional and unceded territory of the Stó:lō Peoples. \nOur market of local growers\, gatherers\, bakers\, crafters and makers is a space where new relationships can form and thrive around those offerings\, connecting the people of Chilliwack with quality food and goods. \nAs part of the Downtown Chilliwack Farmer’s Market family\, you can expect a friendly community environment\, marketing support\, and boundless enthusiasm. \nDCCM is an inclusive space and works towards achieving accessibility for all.
URL:https://maesseasonings.com/event/downtown-chilliwack-community-market-3/
LOCATION:Central Community Park\, 45951 Victoria Ave\, Chilliwack\, BC\, V2P 4N2\, Canada
END:VEVENT
END:VCALENDAR