BEGIN:VCALENDAR
VERSION:2.0
PRODID:-//Mae&#039;s Seasonings - ECPv6.15.18//NONSGML v1.0//EN
CALSCALE:GREGORIAN
METHOD:PUBLISH
X-ORIGINAL-URL:https://maesseasonings.com
X-WR-CALDESC:Events for Mae&#039;s Seasonings
REFRESH-INTERVAL;VALUE=DURATION:PT1H
X-Robots-Tag:noindex
X-PUBLISHED-TTL:PT1H
BEGIN:VTIMEZONE
TZID:America/Vancouver
BEGIN:DAYLIGHT
TZOFFSETFROM:-0800
TZOFFSETTO:-0700
TZNAME:PDT
DTSTART:20220313T100000
END:DAYLIGHT
BEGIN:STANDARD
TZOFFSETFROM:-0700
TZOFFSETTO:-0800
TZNAME:PST
DTSTART:20221106T090000
END:STANDARD
BEGIN:DAYLIGHT
TZOFFSETFROM:-0800
TZOFFSETTO:-0700
TZNAME:PDT
DTSTART:20230312T100000
END:DAYLIGHT
BEGIN:STANDARD
TZOFFSETFROM:-0700
TZOFFSETTO:-0800
TZNAME:PST
DTSTART:20231105T090000
END:STANDARD
BEGIN:DAYLIGHT
TZOFFSETFROM:-0800
TZOFFSETTO:-0700
TZNAME:PDT
DTSTART:20240310T100000
END:DAYLIGHT
BEGIN:STANDARD
TZOFFSETFROM:-0700
TZOFFSETTO:-0800
TZNAME:PST
DTSTART:20241103T090000
END:STANDARD
END:VTIMEZONE
BEGIN:VEVENT
DTSTART;TZID=America/Vancouver:20231008T100000
DTEND;TZID=America/Vancouver:20231008T140000
DTSTAMP:20260424T054650
CREATED:20230716T064942Z
LAST-MODIFIED:20230716T064942Z
UID:5154-1696759200-1696773600@maesseasonings.com
SUMMARY:Downtown Chilliwack Community Market
DESCRIPTION:The Downtown Chilliwack Community Market takes place Sundays from 10am to 2pm\, from May 28th to October 15th\, on the traditional and unceded territory of the Stó:lō Peoples. \nOur market of local growers\, gatherers\, bakers\, crafters and makers is a space where new relationships can form and thrive around those offerings\, connecting the people of Chilliwack with quality food and goods. \nAs part of the Downtown Chilliwack Farmer’s Market family\, you can expect a friendly community environment\, marketing support\, and boundless enthusiasm. \nDCCM is an inclusive space and works towards achieving accessibility for all.
URL:https://maesseasonings.com/event/downtown-chilliwack-community-market-4/
LOCATION:Central Community Park\, 45951 Victoria Ave\, Chilliwack\, BC\, V2P 4N2\, Canada
END:VEVENT
BEGIN:VEVENT
DTSTART;TZID=America/Vancouver:20231014T100000
DTEND;TZID=America/Vancouver:20231014T160000
DTSTAMP:20260424T054650
CREATED:20230716T065703Z
LAST-MODIFIED:20230716T065703Z
UID:5156-1697277600-1697299200@maesseasonings.com
SUMMARY:The Mango Market
DESCRIPTION:A carefully curated small shop outdoor monthly market featuring 50+ artisans\, food trucks and more!
URL:https://maesseasonings.com/event/the-mango-market/
LOCATION:Gateway Community Church\, 2884 Gladys Ave\, Abbotsford\, BC\, Canada
END:VEVENT
END:VCALENDAR