BEGIN:VCALENDAR
VERSION:2.0
PRODID:-//Mae&#039;s Seasonings - ECPv6.15.18//NONSGML v1.0//EN
CALSCALE:GREGORIAN
METHOD:PUBLISH
X-ORIGINAL-URL:https://maesseasonings.com
X-WR-CALDESC:Events for Mae&#039;s Seasonings
REFRESH-INTERVAL;VALUE=DURATION:PT1H
X-Robots-Tag:noindex
X-PUBLISHED-TTL:PT1H
BEGIN:VTIMEZONE
TZID:America/Vancouver
BEGIN:DAYLIGHT
TZOFFSETFROM:-0800
TZOFFSETTO:-0700
TZNAME:PDT
DTSTART:20230312T100000
END:DAYLIGHT
BEGIN:STANDARD
TZOFFSETFROM:-0700
TZOFFSETTO:-0800
TZNAME:PST
DTSTART:20231105T090000
END:STANDARD
BEGIN:DAYLIGHT
TZOFFSETFROM:-0800
TZOFFSETTO:-0700
TZNAME:PDT
DTSTART:20240310T100000
END:DAYLIGHT
BEGIN:STANDARD
TZOFFSETFROM:-0700
TZOFFSETTO:-0800
TZNAME:PST
DTSTART:20241103T090000
END:STANDARD
BEGIN:DAYLIGHT
TZOFFSETFROM:-0800
TZOFFSETTO:-0700
TZNAME:PDT
DTSTART:20250309T100000
END:DAYLIGHT
BEGIN:STANDARD
TZOFFSETFROM:-0700
TZOFFSETTO:-0800
TZNAME:PST
DTSTART:20251102T090000
END:STANDARD
END:VTIMEZONE
BEGIN:VEVENT
DTSTART;TZID=America/Vancouver:20240113T100000
DTEND;TZID=America/Vancouver:20240113T140000
DTSTAMP:20260422T024746
CREATED:20240111T231719Z
LAST-MODIFIED:20240111T231719Z
UID:5325-1705140000-1705154400@maesseasonings.com
SUMMARY:Haney Winter Market
DESCRIPTION:NEW Winter Market brought to you by the Fraser North Farmers Market Society. 30+ local vendors offering produce prepared foods and artisans. Starts November and runs through April 10am – 2pm. Something for everyone! Buy local Support local!
URL:https://maesseasonings.com/event/haney-winter-market/
LOCATION:BC
ATTACH;FMTTYPE=image/jpeg:https://maesseasonings.com/wp-content/uploads/2024/01/haney-winter-market-2.jpg
END:VEVENT
BEGIN:VEVENT
DTSTART;TZID=America/Vancouver:20240121T083000
DTEND;TZID=America/Vancouver:20240121T143000
DTSTAMP:20260422T024746
CREATED:20240112T010431Z
LAST-MODIFIED:20240112T010431Z
UID:5369-1705825800-1705847400@maesseasonings.com
SUMMARY:Trev's Flea Market
DESCRIPTION:Come on down and check out all the great finds at Trev’s Flea market. Open 8:30-2:30 at 52161 Victor Drive in Rosedale.
URL:https://maesseasonings.com/event/trevs-flea-market/
LOCATION:Cheam First Nation\, 52161 Victor Drive\, Rosedale\, B.C.\, Canada
ATTACH;FMTTYPE=image/jpeg:https://maesseasonings.com/wp-content/uploads/2024/01/trevs-flea-market.jpg
END:VEVENT
BEGIN:VEVENT
DTSTART;TZID=America/Vancouver:20240127T100000
DTEND;TZID=America/Vancouver:20240127T140000
DTSTAMP:20260422T024746
CREATED:20240111T232116Z
LAST-MODIFIED:20240111T232116Z
UID:5333-1706349600-1706364000@maesseasonings.com
SUMMARY:Haney Winter Market
DESCRIPTION:NEW Winter Market brought to you by the Fraser North Farmers Market Society. 30+ local vendors offering produce prepared foods and artisans. Starts November and runs through April 10am – 2pm. Something for everyone! Buy local Support local!
URL:https://maesseasonings.com/event/haney-winter-market-2/
LOCATION:BC
ATTACH;FMTTYPE=image/jpeg:https://maesseasonings.com/wp-content/uploads/2024/01/haney-winter-market-2.jpg
END:VEVENT
END:VCALENDAR