BEGIN:VCALENDAR
VERSION:2.0
PRODID:-//Mae&#039;s Seasonings - ECPv6.15.18//NONSGML v1.0//EN
CALSCALE:GREGORIAN
METHOD:PUBLISH
X-ORIGINAL-URL:https://maesseasonings.com
X-WR-CALDESC:Events for Mae&#039;s Seasonings
REFRESH-INTERVAL;VALUE=DURATION:PT1H
X-Robots-Tag:noindex
X-PUBLISHED-TTL:PT1H
BEGIN:VTIMEZONE
TZID:America/Vancouver
BEGIN:DAYLIGHT
TZOFFSETFROM:-0800
TZOFFSETTO:-0700
TZNAME:PDT
DTSTART:20230312T100000
END:DAYLIGHT
BEGIN:STANDARD
TZOFFSETFROM:-0700
TZOFFSETTO:-0800
TZNAME:PST
DTSTART:20231105T090000
END:STANDARD
BEGIN:DAYLIGHT
TZOFFSETFROM:-0800
TZOFFSETTO:-0700
TZNAME:PDT
DTSTART:20240310T100000
END:DAYLIGHT
BEGIN:STANDARD
TZOFFSETFROM:-0700
TZOFFSETTO:-0800
TZNAME:PST
DTSTART:20241103T090000
END:STANDARD
BEGIN:DAYLIGHT
TZOFFSETFROM:-0800
TZOFFSETTO:-0700
TZNAME:PDT
DTSTART:20250309T100000
END:DAYLIGHT
BEGIN:STANDARD
TZOFFSETFROM:-0700
TZOFFSETTO:-0800
TZNAME:PST
DTSTART:20251102T090000
END:STANDARD
END:VTIMEZONE
BEGIN:VEVENT
DTSTART;TZID=America/Vancouver:20240302T100000
DTEND;TZID=America/Vancouver:20240302T140000
DTSTAMP:20260420T020426
CREATED:20240111T233010Z
LAST-MODIFIED:20240111T233010Z
UID:5339-1709373600-1709388000@maesseasonings.com
SUMMARY:Haney Winter Market
DESCRIPTION:NEW Winter Market brought to you by the Fraser North Farmers Market Society. 30+ local vendors offering produce prepared foods and artisans. Starts November and runs through April 10am – 2pm. Something for everyone! Buy local Support local!
URL:https://maesseasonings.com/event/haney-winter-market-4/
LOCATION:BC
ATTACH;FMTTYPE=image/jpeg:https://maesseasonings.com/wp-content/uploads/2024/01/haney-winter-market-2.jpg
END:VEVENT
BEGIN:VEVENT
DTSTART;TZID=America/Vancouver:20240316T100000
DTEND;TZID=America/Vancouver:20240316T140000
DTSTAMP:20260420T020426
CREATED:20240111T233409Z
LAST-MODIFIED:20240111T233409Z
UID:5343-1710583200-1710597600@maesseasonings.com
SUMMARY:Haney Winter Market
DESCRIPTION:NEW Winter Market brought to you by the Fraser North Farmers Market Society. 30+ local vendors offering produce prepared foods and artisans. Starts November and runs through April 10am – 2pm. Something for everyone! Buy local Support local!
URL:https://maesseasonings.com/event/haney-winter-market-5/
LOCATION:BC
ATTACH;FMTTYPE=image/jpeg:https://maesseasonings.com/wp-content/uploads/2024/01/haney-winter-market-2.jpg
END:VEVENT
BEGIN:VEVENT
DTSTART;TZID=America/Vancouver:20240323T100000
DTEND;TZID=America/Vancouver:20240323T150000
DTSTAMP:20260420T020426
CREATED:20240112T000057Z
LAST-MODIFIED:20240321T210111Z
UID:5347-1711188000-1711206000@maesseasonings.com
SUMMARY:The Mango Market - Season Opener
DESCRIPTION:Kick-off The Mango Market Season with us! Shop with 50+ carefully curated local artisans\, food trucks\, entertainment and more. Entry is FREE!
URL:https://maesseasonings.com/event/the-mango-market-season-opener/
LOCATION:Gateway Community Church\, 2884 Gladys Ave\, Abbotsford\, BC\, Canada
ATTACH;FMTTYPE=image/png:https://maesseasonings.com/wp-content/uploads/2024/01/Mango.png
END:VEVENT
BEGIN:VEVENT
DTSTART;TZID=America/Vancouver:20240330T100000
DTEND;TZID=America/Vancouver:20240330T160000
DTSTAMP:20260420T020426
CREATED:20240105T051901Z
LAST-MODIFIED:20240105T052031Z
UID:5310-1711792800-1711814400@maesseasonings.com
SUMMARY:Easter Extravaganza with Hidden Gem Events
DESCRIPTION: Bring the Family out to the 2nd Annual “Easter Extravaganza” Market \n\nMark your calendar \n March 30th\, 2024\n10am to 4pm\n Agassiz Ag Hall located at 6800 Pioneer Ave.\n Free Admission\n Free Face Painting
URL:https://maesseasonings.com/event/easter-extravaganza-with-hidden-gem-events/
LOCATION:Agassiz Ag Hall\, 6800 Pioneer Avenue\, Agassiz\, BC\, Canada
ATTACH;FMTTYPE=image/jpeg:https://maesseasonings.com/wp-content/uploads/2024/01/Easter-Hidden-Gem-March-2024.jpg
ORGANIZER;CN="Hidden Gem Events":MAILTO:hiddengemevents2022@gmail.com
END:VEVENT
END:VCALENDAR